BEGIN:VCALENDAR
VERSION:2.0
PRODID:-//OurSong Atlanta - ECPv6.15.20//NONSGML v1.0//EN
CALSCALE:GREGORIAN
METHOD:PUBLISH
X-WR-CALNAME:OurSong Atlanta
X-ORIGINAL-URL:https://oursongatlanta.org
X-WR-CALDESC:Events for OurSong Atlanta
REFRESH-INTERVAL;VALUE=DURATION:PT1H
X-Robots-Tag:noindex
X-PUBLISHED-TTL:PT1H
BEGIN:VTIMEZONE
TZID:America/New_York
BEGIN:DAYLIGHT
TZOFFSETFROM:-0500
TZOFFSETTO:-0400
TZNAME:EDT
DTSTART:20250309T070000
END:DAYLIGHT
BEGIN:STANDARD
TZOFFSETFROM:-0400
TZOFFSETTO:-0500
TZNAME:EST
DTSTART:20251102T060000
END:STANDARD
BEGIN:DAYLIGHT
TZOFFSETFROM:-0500
TZOFFSETTO:-0400
TZNAME:EDT
DTSTART:20260308T070000
END:DAYLIGHT
BEGIN:STANDARD
TZOFFSETFROM:-0400
TZOFFSETTO:-0500
TZNAME:EST
DTSTART:20261101T060000
END:STANDARD
BEGIN:DAYLIGHT
TZOFFSETFROM:-0500
TZOFFSETTO:-0400
TZNAME:EDT
DTSTART:20270314T070000
END:DAYLIGHT
BEGIN:STANDARD
TZOFFSETFROM:-0400
TZOFFSETTO:-0500
TZNAME:EST
DTSTART:20271107T060000
END:STANDARD
END:VTIMEZONE
BEGIN:VEVENT
DTSTART;TZID=America/New_York:20260614T150000
DTEND;TZID=America/New_York:20260614T170000
DTSTAMP:20260423T143926
CREATED:20260415T031251Z
LAST-MODIFIED:20260415T034551Z
UID:10000250-1781449200-1781456400@oursongatlanta.org
SUMMARY:When Dreams Take Wing!
DESCRIPTION:OurSong presents: “When Dreams Take Wing!” \n♫ One concert only! ♪ \nSunday\, June 14\, 2026 at 3:00 pm\n \nAt First Baptist Church Decatur\, 308 Clairemont Ave.\, Decatur\, GA 30030 (map link) \nIn June\, OurSong will travel to Brussels\, Belgium for Various Voices\, the European LGBTQI+ Chorus Festival. This will be our fourth time performing in the quadrennial European event\, previously in Dublin\, Munich\, and Bologna\, and includes 5 days of concerts by 120 LGBTQI+ choirs\, totaling more than 4\,000 singers from around the world. \nBefore we go\, we are excited to present a “flight” of that music combined with other selected favorites exploring nature and a more perfect world. Water\, fire\, air\, love\, our voice in this world and beyond\, all are featured and include works by Jake Runestad\, Katerina Gimon\, Jason Mraz\, Sinead O’Connor\, Annie Lenox\, Tune Yards and more. \nFor tickets\, visit Eventbrite Ticket Site: When Dreams Take Wing! \nNOTE: NEW TICKET PRICING THIS SEASON:   We believe queer music should be accessible to everyone\, no matter their financial situation. That’s why we are offering a sliding scale for tickets. Please choose the option that feels right for you — no questions asked. \nWe encourage you to purchase tickets online to avoid traffic at the door. \nBe sure to join our mailing list for updates: OurSong Email List Sign-up
URL:https://oursongatlanta.org/event/when-dreams-take-wing/
LOCATION:First Baptist Church Decatur\, 308 Clairemont Ave\, Decatur\, GA\, GA\, 30030\, United States
CATEGORIES:2025-2026 Season
GEO:33.77916;-84.297011
X-APPLE-STRUCTURED-LOCATION;VALUE=URI;X-ADDRESS=First Baptist Church Decatur 308 Clairemont Ave Decatur GA GA 30030 United States;X-APPLE-RADIUS=500;X-TITLE=308 Clairemont Ave:geo:-84.297011,33.77916
END:VEVENT
END:VCALENDAR